BEGIN:VCALENDAR
VERSION:2.0
PRODID:-//Squarespace Inc/Squarespace 6//v6//EN
BEGIN:VEVENT
UID:5f5ff1bd7926a85f6ebcf5cb@squarespace.com
DTSTAMP:20201117T190525Z
DTSTART:20201129T190000Z
DTEND:20201129T210000Z
SUMMARY:POSTPONED - Wien Modern: Character Studies with Miranda Cuckson
END:VEVENT
END:VCALENDAR
